BEGIN:VCALENDAR
VERSION:2.0
PRODID:-//Miki Island - ECPv6.3.2//NONSGML v1.0//EN
CALSCALE:GREGORIAN
METHOD:PUBLISH
X-ORIGINAL-URL:https://miki-island.com
X-WR-CALDESC:Events for Miki Island
REFRESH-INTERVAL;VALUE=DURATION:PT1H
X-Robots-Tag:noindex
X-PUBLISHED-TTL:PT1H
BEGIN:VTIMEZONE
TZID:Asia/Singapore
BEGIN:STANDARD
TZOFFSETFROM:+0800
TZOFFSETTO:+0800
TZNAME:+08
DTSTART:20240101T000000
END:STANDARD
END:VTIMEZONE
BEGIN:VEVENT
DTSTART;TZID=Asia/Singapore:20240423T160000
DTEND;TZID=Asia/Singapore:20240423T170000
DTSTAMP:20260420T082500
CREATED:20240304T133106Z
LAST-MODIFIED:20240313T072312Z
UID:6414-1713888000-1713891600@miki-island.com
SUMMARY:Webinar April 23rd 2024 | High Performing Team from theory to practice
DESCRIPTION:🌐 WEBINAR | High Performing & Agile Team Simulation: From Theory to Practice \nJoin us for an engaging webinar designed for team coaches\, agile coaches & consultants\, leadership coaches\, Head of Learning & Development\, and Change Managers. \n  \n🚀 Event Overview:\nUnlock the secrets of transitioning from theory to practice in fostering high-performing and agile teams. This webinar provides a comprehensive exploration of team simulations\, offering insights and strategies tailored for professionals involved in team coaching\, agility\, leadership development\, and organizational change. \n  \n📅 Date & Time: April 23th 2024 – 4 to 5pm SGT \n  \nKey Learning Points: \n\nPractical Application: Understand how to translate theoretical concepts of high-performance and agility into actionable practices within teams.\nSimulation Techniques: Explore effective simulation methodologies that resonate with diverse coaching and consulting contexts.\nImpactful Team Coaching: Learn strategies to enhance your team coaching effectiveness\, leveraging simulation experiences for tangible outcomes.\nLeadership Development: Uncover ways to integrate team simulations into leadership development programs\, fostering leadership skills in real-world scenarios.\nChange Management Integration: Discover how team simulations can be seamlessly integrated into change management initiatives\, ensuring smoother transitions and increased adaptability.\n\n🌟 Who Should Attend: \n\nTeam Coaches\nAgile Coaches & Consultants\nLeadership Coaches\nHead of Learning & Development\nChange Managers\n\n💻 Google Meet joining info\nVideo call link: https://meet.google.com/jhy-ffyr-yff\nOr dial: ‪(ZA) +27 10 823 0320‬ PIN: ‪664 634 944 2588‬#\nMore phone numbers: https://tel.meet/jhy-ffyr-yff?pin=6646349442588 \n  \nDon’t miss this opportunity to gain practical insights and valuable strategies for elevating team performance and agility. Reserve your spot now and embark on a journey from theory to transformative practice!
URL:https://miki-island.com/event/webinar-april-23rd-2024-high-performing-team-from-theory-to-practice/
LOCATION:Virtual
CATEGORIES:Webinar (45min)
ATTACH;FMTTYPE=image/jpeg:https://miki-island.com/wp-content/uploads/2024/03/1-2.jpg
END:VEVENT
BEGIN:VEVENT
DTSTART;TZID=Asia/Singapore:20240424T160000
DTEND;TZID=Asia/Singapore:20240424T170000
DTSTAMP:20260420T082500
CREATED:20240304T133656Z
LAST-MODIFIED:20240415T102241Z
UID:6425-1713974400-1713978000@miki-island.com
SUMMARY:Community Circle April 24th 2024 | Partner only
DESCRIPTION:Join our vibrant event community circle\, where partners convene to share insights\, forge connections\, and cultivate growth together. Experience collaborative learning at its finest as we unite to explore new ideas\, foster meaningful relationships\, and embark on transformative journeys. \nThis time round we will welcome the Adenium AI’ team our technology partner on how to enhance leadership development with behavioral data.
URL:https://miki-island.com/event/community-circle-april-24th-2024-partner-only/
LOCATION:Virtual
CATEGORIES:Community Circle
ATTACH;FMTTYPE=image/jpeg:https://miki-island.com/wp-content/uploads/2024/03/2-2.jpg
END:VEVENT
END:VCALENDAR