BEGIN:VCALENDAR
VERSION:2.0
PRODID:-//Miki Island - ECPv6.3.2//NONSGML v1.0//EN
CALSCALE:GREGORIAN
METHOD:PUBLISH
X-WR-CALNAME:Miki Island
X-ORIGINAL-URL:https://miki-island.com
X-WR-CALDESC:Events for Miki Island
REFRESH-INTERVAL;VALUE=DURATION:PT1H
X-Robots-Tag:noindex
X-PUBLISHED-TTL:PT1H
BEGIN:VTIMEZONE
TZID:Asia/Singapore
BEGIN:STANDARD
TZOFFSETFROM:+0800
TZOFFSETTO:+0800
TZNAME:+08
DTSTART:20240101T000000
END:STANDARD
END:VTIMEZONE
BEGIN:VEVENT
DTSTART;TZID=Asia/Singapore:20240814T160000
DTEND;TZID=Asia/Singapore:20240814T180000
DTSTAMP:20260420T082630
CREATED:20240726T233455Z
LAST-MODIFIED:20240726T235008Z
UID:8200-1723651200-1723658400@miki-island.com
SUMMARY:Miki Island Full Gameplay & Demo 14 Aug 2024 | 1.5h
DESCRIPTION:Ready To Try Miki Island?\nSecure your spot in our next demo workshop and see for yourself why it has transformed thousands of teams around the world \n\nPlay the Miki Island Game\nDive into an engaging Miki Island game session that challenges and energizes everyone in the team\nExperience the Debrief & Learning Outcomes\nParticipate in an insightful debrief to reflect on the game and connect the experience to real-world scenarios.\n\n 
URL:https://miki-island.com/event/miki-island-full-gameplay-demo/
LOCATION:Virtual
CATEGORIES:Full Gameplay & Demo (1.5h)
ATTACH;FMTTYPE=image/jpeg:https://miki-island.com/wp-content/uploads/2024/07/2-2.jpg
END:VEVENT
BEGIN:VEVENT
DTSTART;TZID=Asia/Singapore:20240820T160000
DTEND;TZID=Asia/Singapore:20240820T170000
DTSTAMP:20260420T082630
CREATED:20240702T022120Z
LAST-MODIFIED:20240702T025619Z
UID:7064-1724169600-1724173200@miki-island.com
SUMMARY:Community Circle 20 Aug 2024 | Partner only
DESCRIPTION:Join our vibrant event community circle\, where partners convene to share insights\, forge connections\, and cultivate growth together. Experience collaborative learning at its finest as we unite to explore new ideas\, foster meaningful relationships\, and embark on transformative journeys. \n  \njoin.butter.us/csmzujqql/community-circle
URL:https://miki-island.com/event/community-circle-20-aug-2024-partner-only/
LOCATION:Virtual
CATEGORIES:Community Circle
ATTACH;FMTTYPE=image/jpeg:https://miki-island.com/wp-content/uploads/2024/03/2-2.jpg
END:VEVENT
BEGIN:VEVENT
DTSTART;TZID=Asia/Singapore:20240925T160000
DTEND;TZID=Asia/Singapore:20240925T170000
DTSTAMP:20260420T082630
CREATED:20240702T022209Z
LAST-MODIFIED:20240702T025604Z
UID:7062-1727280000-1727283600@miki-island.com
SUMMARY:Community Circle 25 Sept 2024 | Partner only
DESCRIPTION:Join our vibrant event community circle\, where partners convene to share insights\, forge connections\, and cultivate growth together. Experience collaborative learning at its finest as we unite to explore new ideas\, foster meaningful relationships\, and embark on transformative journeys. \njoin.butter.us/csmzujqql/community-circle
URL:https://miki-island.com/event/community-circle-25-sept-2024-partner-only/
LOCATION:Virtual
CATEGORIES:Community Circle
ATTACH;FMTTYPE=image/jpeg:https://miki-island.com/wp-content/uploads/2024/03/2-2.jpg
END:VEVENT
END:VCALENDAR