BEGIN:VCALENDAR
VERSION:2.0
PRODID:-//Miki Island - ECPv6.3.2//NONSGML v1.0//EN
CALSCALE:GREGORIAN
METHOD:PUBLISH
X-ORIGINAL-URL:https://miki-island.com
X-WR-CALDESC:Events for Miki Island
REFRESH-INTERVAL;VALUE=DURATION:PT1H
X-Robots-Tag:noindex
X-PUBLISHED-TTL:PT1H
BEGIN:VTIMEZONE
TZID:Asia/Singapore
BEGIN:STANDARD
TZOFFSETFROM:+0800
TZOFFSETTO:+0800
TZNAME:+08
DTSTART:20240101T000000
END:STANDARD
END:VTIMEZONE
BEGIN:VEVENT
DTSTART;TZID=Asia/Singapore:20240814T160000
DTEND;TZID=Asia/Singapore:20240814T180000
DTSTAMP:20260424T121222
CREATED:20240726T233455Z
LAST-MODIFIED:20240726T235008Z
UID:8200-1723651200-1723658400@miki-island.com
SUMMARY:Miki Island Full Gameplay & Demo 14 Aug 2024 | 1.5h
DESCRIPTION:Ready To Try Miki Island?\nSecure your spot in our next demo workshop and see for yourself why it has transformed thousands of teams around the world \n\nPlay the Miki Island Game\nDive into an engaging Miki Island game session that challenges and energizes everyone in the team\nExperience the Debrief & Learning Outcomes\nParticipate in an insightful debrief to reflect on the game and connect the experience to real-world scenarios.\n\n 
URL:https://miki-island.com/event/miki-island-full-gameplay-demo/
LOCATION:Virtual
CATEGORIES:Full Gameplay & Demo (1.5h)
ATTACH;FMTTYPE=image/jpeg:https://miki-island.com/wp-content/uploads/2024/07/2-2.jpg
END:VEVENT
END:VCALENDAR