BEGIN:VCALENDAR
VERSION:2.0
PRODID:-//Miki Island - ECPv6.3.2//NONSGML v1.0//EN
CALSCALE:GREGORIAN
METHOD:PUBLISH
X-ORIGINAL-URL:https://miki-island.com
X-WR-CALDESC:Events for Miki Island
REFRESH-INTERVAL;VALUE=DURATION:PT1H
X-Robots-Tag:noindex
X-PUBLISHED-TTL:PT1H
BEGIN:VTIMEZONE
TZID:Asia/Singapore
BEGIN:STANDARD
TZOFFSETFROM:+0800
TZOFFSETTO:+0800
TZNAME:+08
DTSTART:20240101T000000
END:STANDARD
END:VTIMEZONE
BEGIN:VEVENT
DTSTART;VALUE=DATE:20240520
DTEND;VALUE=DATE:20240523
DTSTAMP:20260420T082501
CREATED:20240304T135402Z
LAST-MODIFIED:20240305T004102Z
UID:6452-1716163200-1716422399@miki-island.com
SUMMARY:Certification Program & New Partner Kick Off​ May 20\, 21\, 22nd 2024
DESCRIPTION:At Miki Island\, we understand the power of synergy and importance of fostering win-win relationships. We onboard new partners every quarter with a certification program and Go-to-Market strategy workshop! \nThis is a 3 half-day in-depth virtual workshop to get you familiar with the platform and all the resources to support your coaching programs with Miki Island. \nIncludes a Go-to-market strategy workshop as well to brainstorm on how to bring this new solution to your clients in your market! \nThe Process – 3 half-days to learn: \n\nHow to use our all-in-one platform\nTo Facilitate Miki Island and coach on observed behaviors\nTo Use the GDQ Short Team Assessment and the IMGD Model of 4 stages of team development\nThe foundation and learning philosophy of game-based learning program & the Kolb’s learning cycle\nHow to use our sales materials for various needs: Team building\, team coaching and leadership programs\n\nAs a Certified Partner you get: \n\nALL ACCESS TO OUR PLATFORM\n\nTeam Assessment\nMiki Island team simulation\nDigital Collaboration & Learning activities\nCreate Teams and sessions\n\n\n\n\nAMAZING SUPPORT & COMMUNITY\n\nSales materials and business cases\nResearch paper & educational materials\nFacilitator guide & Platform how-to documents\nAccess to our community of certified consultants and team coaches\n\n\n\nJoin the worldwide movement to bridge the gap between theory & practice and Build Agile & High Performing Teams at scale! \n\nOriginal and exclusive courseware materials provided in many languages\nRead-made sales deck\, marketing materials and workshop materials!\nKeep updated and engaged through our exclusive Facilitators Newsletter & Community of practice\nExclusive resources on Agile & High Performing Teams\nYour profile and public events on the website
URL:https://miki-island.com/event/certification-program-new-partner-kick-off-may-20-21-22nd-2024/
LOCATION:Virtual
CATEGORIES:Certification Program
ATTACH;FMTTYPE=image/jpeg:https://miki-island.com/wp-content/uploads/2024/03/Website-Events.jpg
END:VEVENT
END:VCALENDAR